BEGIN:VCALENDAR
VERSION:2.0
PRODID:-//イルチブレインヨガ公式サイト - ECPv6.15.16//NONSGML v1.0//EN
CALSCALE:GREGORIAN
METHOD:PUBLISH
X-ORIGINAL-URL:https://ilchibrainyoga.com
X-WR-CALDESC:イルチブレインヨガ公式サイト のイベント
REFRESH-INTERVAL;VALUE=DURATION:PT1H
X-Robots-Tag:noindex
X-PUBLISHED-TTL:PT1H
BEGIN:VTIMEZONE
TZID:Asia/Tokyo
BEGIN:STANDARD
TZOFFSETFROM:+0900
TZOFFSETTO:+0900
TZNAME:JST
DTSTART:20250101T000000
END:STANDARD
END:VTIMEZONE
BEGIN:VEVENT
DTSTART;TZID=Asia/Tokyo:20260304T140000
DTEND;TZID=Asia/Tokyo:20260329T153000
DTSTAMP:20260420T141755
CREATED:20260304T024836Z
LAST-MODIFIED:20260304T024836Z
UID:85865-1772632800-1774798200@ilchibrainyoga.com
SUMMARY:【岡山】3月4日（水）14日（土）29日（日）【60代からの元気習慣づくり"新感覚"ヨガ体験会】選べる3つの特典付き
DESCRIPTION:開催日：3月4日（水）14日（土）29日（日）\n時間：14:00～15:30\n会場名：イルチブレインヨガ 岡山スタジオ\n会場住所：岡山県岡山市北区磨屋町9-30　SDビル401\n参加費：1\,000円\nトレーナー：藤定、吉村\n持ち物：動きやすい服装、タオル、飲み物（マットはご用意しております）\n問合せ電話：086-234-8356 \n\nLINEからのお申し込みはこちら⇒https://lin.ee/ruJv6KV \n\n\n  \n\n\n\n\n	\n	\n	 \n	\n		\n			\n				ご予約内容\n						（必須）\n						\n				 \n			\n			\n				体験レッスンイベント体験レッスン+オーラ撮影オーラ撮影問合せ\n※ 入会予約はこちらからお申し込みください\n				 \n			\n		\n		\n			\n				お名前\n						（必須）\n						\n				 \n			\n			\n				\n				 \n			\n		\n		\n			\n				メールアドレス\n						（必須）\n						\n				 \n			\n			\n				\n※ 携帯電話のメールアドレスをご入力の際は、ドメイン指定の設定をされている場合”＠ilchibrainyoga.com”からのメールを受け取ることができるように設定してください。\n				 \n			\n		\n		\n			\n				お電話番号（携帯可）\n						（必須）\n						\n				 \n			\n			\n				イルチブレインヨガ各店舗からの連絡が可能な番号をご入力ください。\n\n				 \n			\n		\n		\n			\n				ご予約希望日時\n				 \n			\n			\n				ご予約希望日時をお選びください\n【希望日】タイムスケジュールに記載があるクラスからお選びください\n\n時間帯を選択してください10時台のクラス14時台のクラス19時台のクラス午前のイベント午後のイベント夜のイベント\n				 \n				※ ご予約状況等によりご希望の日時に添えない場合もございます。その際は事前に調整を行う連絡をさせていただきますので予めご了承ください。\n\n				 \n			\n		\n		\n			\n				こちらのスタジオを何でお知りになりましたか？\n						 （必須）\n						\n				 \n			\n			\n				チラシ看板書籍雑誌紹介Yahoo検索Google検索口コミその他Webサイト\n				 \n			\n		\n		\n			\n				ご関心があること、習得したいこと（複数可）\n				 \n			\n			\n				自然治癒力アップ集中力アップダイエット体質改善ストレス軽減丹田強化呼吸法瞑想法その他（備考欄にご入力ください）\n				 \n			\n		\n		\n			\n				備考欄\n				 \n			\n			\n				\n				 \n			\n		\n	\n	個人情報の取扱い\n		について、同意の上送信します。\n※ ご入力頂いた情報は、株式会社DAHN WORLD JAPANからのご案内をさせて頂く以外の目的では使用致しません。\n		\n	 \n	\n	\n	 \n	※ 送信ボタンを押すとすぐ送信されます。このページで入力内容を確認してください。\n\n自動で完了メールが配信されます。\n	 \nΔ \n\n\n\n株式会社DAHN WORLD JAPAN　ダンワールドジャパン
URL:https://ilchibrainyoga.com/event/okayama-23/
LOCATION:イルチブレインヨガ岡山スタジオ\, 岡山県岡山市北区磨屋町9-30 SDビル４階
CATEGORIES:岡山,岡山
ATTACH;FMTTYPE=image/jpeg:https://ilchibrainyoga.com/wp-content/uploads/2026/03/１.jpg
END:VEVENT
BEGIN:VEVENT
DTSTART;TZID=Asia/Tokyo:20260311T140000
DTEND;TZID=Asia/Tokyo:20260328T153000
DTSTAMP:20260420T141755
CREATED:20260304T025123Z
LAST-MODIFIED:20260328T011706Z
UID:85868-1773237600-1774711800@ilchibrainyoga.com
SUMMARY:【岡山】3月11日（水）18日（水）28日（土）【姿勢と体幹を整える "新感覚"ヨガ体験会】自分の状態が見えるオーラ撮影付き
DESCRIPTION:開催日：3月11日（水）18日（水）28日（土）\n時間：14:00～15:30\n会場名：イルチブレインヨガ 岡山スタジオ\n会場住所：岡山県岡山市北区磨屋町9-30　SDビル401\n参加費：1\,000円\nトレーナー：藤定、吉村\n持ち物：動きやすい服装、タオル、飲み物\n問合せ電話：086-234-8356 \n\nLINEからのお申し込みはこちら⇒https://lin.ee/ruJv6KV \n\n\n  \n\n\n\n\n	\n	\n	 \n	\n		\n			\n				ご予約内容\n						（必須）\n						\n				 \n			\n			\n				体験レッスンイベント体験レッスン+オーラ撮影オーラ撮影問合せ\n※ 入会予約はこちらからお申し込みください\n				 \n			\n		\n		\n			\n				お名前\n						（必須）\n						\n				 \n			\n			\n				\n				 \n			\n		\n		\n			\n				メールアドレス\n						（必須）\n						\n				 \n			\n			\n				\n※ 携帯電話のメールアドレスをご入力の際は、ドメイン指定の設定をされている場合”＠ilchibrainyoga.com”からのメールを受け取ることができるように設定してください。\n				 \n			\n		\n		\n			\n				お電話番号（携帯可）\n						（必須）\n						\n				 \n			\n			\n				イルチブレインヨガ各店舗からの連絡が可能な番号をご入力ください。\n\n				 \n			\n		\n		\n			\n				ご予約希望日時\n				 \n			\n			\n				ご予約希望日時をお選びください\n【希望日】タイムスケジュールに記載があるクラスからお選びください\n\n時間帯を選択してください10時台のクラス14時台のクラス19時台のクラス午前のイベント午後のイベント夜のイベント\n				 \n				※ ご予約状況等によりご希望の日時に添えない場合もございます。その際は事前に調整を行う連絡をさせていただきますので予めご了承ください。\n\n				 \n			\n		\n		\n			\n				こちらのスタジオを何でお知りになりましたか？\n						 （必須）\n						\n				 \n			\n			\n				チラシ看板書籍雑誌紹介Yahoo検索Google検索口コミその他Webサイト\n				 \n			\n		\n		\n			\n				ご関心があること、習得したいこと（複数可）\n				 \n			\n			\n				自然治癒力アップ集中力アップダイエット体質改善ストレス軽減丹田強化呼吸法瞑想法その他（備考欄にご入力ください）\n				 \n			\n		\n		\n			\n				備考欄\n				 \n			\n			\n				\n				 \n			\n		\n	\n	個人情報の取扱い\n		について、同意の上送信します。\n※ ご入力頂いた情報は、株式会社DAHN WORLD JAPANからのご案内をさせて頂く以外の目的では使用致しません。\n		\n	 \n	\n	\n	 \n	※ 送信ボタンを押すとすぐ送信されます。このページで入力内容を確認してください。\n\n自動で完了メールが配信されます。\n	 \nΔ \n\n\n\n株式会社DAHN WORLD JAPAN　ダンワールドジャパン
URL:https://ilchibrainyoga.com/event/okayama-24/
LOCATION:イルチブレインヨガ岡山スタジオ\, 岡山県岡山市北区磨屋町9-30 SDビル４階
CATEGORIES:岡山,岡山
ATTACH;FMTTYPE=image/png:https://ilchibrainyoga.com/wp-content/uploads/2026/03/２.png
END:VEVENT
BEGIN:VEVENT
DTSTART;TZID=Asia/Tokyo:20260313T190000
DTEND;TZID=Asia/Tokyo:20260327T203000
DTSTAMP:20260420T141755
CREATED:20260304T025252Z
LAST-MODIFIED:20260304T025252Z
UID:85871-1773428400-1774643400@ilchibrainyoga.com
SUMMARY:【岡山】3月13日（金）20日（金）27日（金）【心を整える】 呼吸と瞑想体験会｜自律神経バランスチェック付き
DESCRIPTION:開催日：3月13日（金）20日（金）27日（金）\n時間：19:00～20:30\n会場名：イルチブレインヨガ 岡山スタジオ\n会場住所：岡山県岡山市北区磨屋町9-30　SDビル401\n参加費：1\,000円\nトレーナー：藤定、吉村\n持ち物：動きやすい服装、タオル、飲み物\n問合せ電話：086-234-8356 \n\nLINEからのお申し込みはこちら⇒https://lin.ee/ruJv6KV \n\n\n  \n\n\n\n\n	\n	\n	 \n	\n		\n			\n				ご予約内容\n						（必須）\n						\n				 \n			\n			\n				体験レッスンイベント体験レッスン+オーラ撮影オーラ撮影問合せ\n※ 入会予約はこちらからお申し込みください\n				 \n			\n		\n		\n			\n				お名前\n						（必須）\n						\n				 \n			\n			\n				\n				 \n			\n		\n		\n			\n				メールアドレス\n						（必須）\n						\n				 \n			\n			\n				\n※ 携帯電話のメールアドレスをご入力の際は、ドメイン指定の設定をされている場合”＠ilchibrainyoga.com”からのメールを受け取ることができるように設定してください。\n				 \n			\n		\n		\n			\n				お電話番号（携帯可）\n						（必須）\n						\n				 \n			\n			\n				イルチブレインヨガ各店舗からの連絡が可能な番号をご入力ください。\n\n				 \n			\n		\n		\n			\n				ご予約希望日時\n				 \n			\n			\n				ご予約希望日時をお選びください\n【希望日】タイムスケジュールに記載があるクラスからお選びください\n\n時間帯を選択してください10時台のクラス14時台のクラス19時台のクラス午前のイベント午後のイベント夜のイベント\n				 \n				※ ご予約状況等によりご希望の日時に添えない場合もございます。その際は事前に調整を行う連絡をさせていただきますので予めご了承ください。\n\n				 \n			\n		\n		\n			\n				こちらのスタジオを何でお知りになりましたか？\n						 （必須）\n						\n				 \n			\n			\n				チラシ看板書籍雑誌紹介Yahoo検索Google検索口コミその他Webサイト\n				 \n			\n		\n		\n			\n				ご関心があること、習得したいこと（複数可）\n				 \n			\n			\n				自然治癒力アップ集中力アップダイエット体質改善ストレス軽減丹田強化呼吸法瞑想法その他（備考欄にご入力ください）\n				 \n			\n		\n		\n			\n				備考欄\n				 \n			\n			\n				\n				 \n			\n		\n	\n	個人情報の取扱い\n		について、同意の上送信します。\n※ ご入力頂いた情報は、株式会社DAHN WORLD JAPANからのご案内をさせて頂く以外の目的では使用致しません。\n		\n	 \n	\n	\n	 \n	※ 送信ボタンを押すとすぐ送信されます。このページで入力内容を確認してください。\n\n自動で完了メールが配信されます。\n	 \nΔ \n\n\n\n株式会社DAHN WORLD JAPAN　ダンワールドジャパン
URL:https://ilchibrainyoga.com/event/okayama-25/
LOCATION:イルチブレインヨガ岡山スタジオ\, 岡山県岡山市北区磨屋町9-30 SDビル４階
CATEGORIES:岡山,岡山
ATTACH;FMTTYPE=image/png:https://ilchibrainyoga.com/wp-content/uploads/2026/03/３.png
END:VEVENT
BEGIN:VEVENT
DTSTART;TZID=Asia/Tokyo:20260314T140000
DTEND;TZID=Asia/Tokyo:20260329T203000
DTSTAMP:20260420T141755
CREATED:20260304T025858Z
LAST-MODIFIED:20260304T025858Z
UID:85875-1773496800-1774816200@ilchibrainyoga.com
SUMMARY:【岡山】3月14日（土）15日（日）29日（日）【オーラ撮影＆自律神経バランスチェック（個別）】希望者には習慣コーチング付き
DESCRIPTION:開催日：3月14日（土）15日（日）29日（日）\n時間：\n・3月14日（土）夜（個別枠）\n・3月15日（日）昼・夜（個別枠）\n・3月29日（日）夜（個別枠）\n会場名：イルチブレインヨガ 岡山スタジオ\n会場住所：岡山県岡山市北区磨屋町9-30　SDビル401\n参加費：1\,000円\nトレーナー：藤定、吉村\n持ち物：特になし（必要な方はメモ）\n問合せ電話：086-234-8356 \n\nLINEからのお申し込みはこちら⇒https://lin.ee/ruJv6KV \n\n\n  \n\n\n\n\n	\n	\n	 \n	\n		\n			\n				ご予約内容\n						（必須）\n						\n				 \n			\n			\n				体験レッスンイベント体験レッスン+オーラ撮影オーラ撮影問合せ\n※ 入会予約はこちらからお申し込みください\n				 \n			\n		\n		\n			\n				お名前\n						（必須）\n						\n				 \n			\n			\n				\n				 \n			\n		\n		\n			\n				メールアドレス\n						（必須）\n						\n				 \n			\n			\n				\n※ 携帯電話のメールアドレスをご入力の際は、ドメイン指定の設定をされている場合”＠ilchibrainyoga.com”からのメールを受け取ることができるように設定してください。\n				 \n			\n		\n		\n			\n				お電話番号（携帯可）\n						（必須）\n						\n				 \n			\n			\n				イルチブレインヨガ各店舗からの連絡が可能な番号をご入力ください。\n\n				 \n			\n		\n		\n			\n				ご予約希望日時\n				 \n			\n			\n				ご予約希望日時をお選びください\n【希望日】タイムスケジュールに記載があるクラスからお選びください\n\n時間帯を選択してください10時台のクラス14時台のクラス19時台のクラス午前のイベント午後のイベント夜のイベント\n				 \n				※ ご予約状況等によりご希望の日時に添えない場合もございます。その際は事前に調整を行う連絡をさせていただきますので予めご了承ください。\n\n				 \n			\n		\n		\n			\n				こちらのスタジオを何でお知りになりましたか？\n						 （必須）\n						\n				 \n			\n			\n				チラシ看板書籍雑誌紹介Yahoo検索Google検索口コミその他Webサイト\n				 \n			\n		\n		\n			\n				ご関心があること、習得したいこと（複数可）\n				 \n			\n			\n				自然治癒力アップ集中力アップダイエット体質改善ストレス軽減丹田強化呼吸法瞑想法その他（備考欄にご入力ください）\n				 \n			\n		\n		\n			\n				備考欄\n				 \n			\n			\n				\n				 \n			\n		\n	\n	個人情報の取扱い\n		について、同意の上送信します。\n※ ご入力頂いた情報は、株式会社DAHN WORLD JAPANからのご案内をさせて頂く以外の目的では使用致しません。\n		\n	 \n	\n	\n	 \n	※ 送信ボタンを押すとすぐ送信されます。このページで入力内容を確認してください。\n\n自動で完了メールが配信されます。\n	 \nΔ \n\n\n\n株式会社DAHN WORLD JAPAN　ダンワールドジャパン
URL:https://ilchibrainyoga.com/event/okayama-26/
LOCATION:イルチブレインヨガ岡山スタジオ\, 岡山県岡山市北区磨屋町9-30 SDビル４階
CATEGORIES:岡山,岡山
ATTACH;FMTTYPE=image/jpeg:https://ilchibrainyoga.com/wp-content/uploads/2026/03/４.jpg
END:VEVENT
END:VCALENDAR